BEGIN:VCALENDAR
VERSION:2.0
PRODID:-//startUp Kirche Meldorf - ECPv6.15.20//NONSGML v1.0//EN
CALSCALE:GREGORIAN
METHOD:PUBLISH
X-ORIGINAL-URL:https://startup-kirche-meldorf.de
X-WR-CALDESC:Veranstaltungen für startUp Kirche Meldorf
REFRESH-INTERVAL;VALUE=DURATION:PT1H
X-Robots-Tag:noindex
X-PUBLISHED-TTL:PT1H
BEGIN:VTIMEZONE
TZID:Europe/Berlin
BEGIN:DAYLIGHT
TZOFFSETFROM:+0100
TZOFFSETTO:+0200
TZNAME:CEST
DTSTART:20230326T010000
END:DAYLIGHT
BEGIN:STANDARD
TZOFFSETFROM:+0200
TZOFFSETTO:+0100
TZNAME:CET
DTSTART:20231029T010000
END:STANDARD
BEGIN:DAYLIGHT
TZOFFSETFROM:+0100
TZOFFSETTO:+0200
TZNAME:CEST
DTSTART:20240331T010000
END:DAYLIGHT
BEGIN:STANDARD
TZOFFSETFROM:+0200
TZOFFSETTO:+0100
TZNAME:CET
DTSTART:20241027T010000
END:STANDARD
BEGIN:DAYLIGHT
TZOFFSETFROM:+0100
TZOFFSETTO:+0200
TZNAME:CEST
DTSTART:20250330T010000
END:DAYLIGHT
BEGIN:STANDARD
TZOFFSETFROM:+0200
TZOFFSETTO:+0100
TZNAME:CET
DTSTART:20251026T010000
END:STANDARD
END:VTIMEZONE
BEGIN:VEVENT
DTSTART;TZID=Europe/Berlin:20240728T100000
DTEND;TZID=Europe/Berlin:20240728T133000
DTSTAMP:20260422T071700
CREATED:20240222T195723Z
LAST-MODIFIED:20240712T082220Z
UID:628-1722160800-1722173400@startup-kirche-meldorf.de
SUMMARY:Predigtdienst in der FeG Hohenlockstedt
DESCRIPTION:Predigtdienst in der FeG Hohenlokstedt \n\n\n\n \n\n\n\nKommt doch gerne dazu!  \n\n\n\nEuer michael \n\n\n\nAdresse folgt—
URL:https://startup-kirche-meldorf.de/event/brunch-mit-andacht-2/
ATTACH;FMTTYPE=image/jpeg:https://startup-kirche-meldorf.de/wp-content/uploads/2023/03/DSCF2768-scaled.jpg
END:VEVENT
END:VCALENDAR