BEGIN:VCALENDAR
VERSION:2.0
PRODID:-//startUp Kirche Meldorf - ECPv6.15.20//NONSGML v1.0//EN
CALSCALE:GREGORIAN
METHOD:PUBLISH
X-WR-CALNAME:startUp Kirche Meldorf
X-ORIGINAL-URL:https://startup-kirche-meldorf.de
X-WR-CALDESC:Veranstaltungen für startUp Kirche Meldorf
REFRESH-INTERVAL;VALUE=DURATION:PT1H
X-Robots-Tag:noindex
X-PUBLISHED-TTL:PT1H
BEGIN:VTIMEZONE
TZID:Europe/Berlin
BEGIN:DAYLIGHT
TZOFFSETFROM:+0100
TZOFFSETTO:+0200
TZNAME:CEST
DTSTART:20240331T010000
END:DAYLIGHT
BEGIN:STANDARD
TZOFFSETFROM:+0200
TZOFFSETTO:+0100
TZNAME:CET
DTSTART:20241027T010000
END:STANDARD
BEGIN:DAYLIGHT
TZOFFSETFROM:+0100
TZOFFSETTO:+0200
TZNAME:CEST
DTSTART:20250330T010000
END:DAYLIGHT
BEGIN:STANDARD
TZOFFSETFROM:+0200
TZOFFSETTO:+0100
TZNAME:CET
DTSTART:20251026T010000
END:STANDARD
BEGIN:DAYLIGHT
TZOFFSETFROM:+0100
TZOFFSETTO:+0200
TZNAME:CEST
DTSTART:20260329T010000
END:DAYLIGHT
BEGIN:STANDARD
TZOFFSETFROM:+0200
TZOFFSETTO:+0100
TZNAME:CET
DTSTART:20261025T010000
END:STANDARD
END:VTIMEZONE
BEGIN:VEVENT
DTSTART;TZID=Europe/Berlin:20251224T153000
DTEND;TZID=Europe/Berlin:20251224T163000
DTSTAMP:20260423T123748
CREATED:20240225T185920Z
LAST-MODIFIED:20251222T194736Z
UID:655-1766590200-1766593800@startup-kirche-meldorf.de
SUMMARY:Heiligabendwohnzimmergottesdienst
DESCRIPTION:Gott kommt zu uns\n\n\n\nAm Heiligabend feiern wir gemeinsam einen Gottesdienst.  \n\n\n\nGott kommt in unsere Dunkelheit und spricht:“ Fürchtet Euch nicht“. \n\n\n\nKinder hören während der Andacht eine biblische Geschichte. \n\n\n\nWir freuen uns auf Euch \n\n\n\nEure startUp KIrche Meldorf
URL:https://startup-kirche-meldorf.de/event/bibelstunde-5/
LOCATION:startUp Kirche Meldorf\, Heverstrom 10\, Meldorf\, 25704\, Deutschland
ATTACH;FMTTYPE=image/jpeg:https://startup-kirche-meldorf.de/wp-content/uploads/2024/02/star-1066985_1280.jpg
END:VEVENT
BEGIN:VEVENT
DTSTART;TZID=Europe/Berlin:20251224T180000
DTEND;TZID=Europe/Berlin:20251224T193000
DTSTAMP:20260423T123748
CREATED:20240222T200551Z
LAST-MODIFIED:20251222T200617Z
UID:632-1766599200-1766604600@startup-kirche-meldorf.de
SUMMARY:Niemand ist Alleine
DESCRIPTION:Niemand muss alleine sein\, wir haben Gemeinschaft \n\n\n\nWir verbringen gemeinsam Zeit am Heiligabend\, hören die Weihnachtsgeschichte und machen es uns mit Tee und Gebäck gemütlich. \n\n\n\nKinder können mit Lego oder einer Holzeisenbahn spielen. \n\n\n\nWir freuen uns auf Euch!  \n\n\n\nEure startUp Kirche Meldorf
URL:https://startup-kirche-meldorf.de/event/gemeindecafe-2/
LOCATION:startUp Kirche Meldorf\, Heverstrom 10\, Meldorf\, 25704\, Deutschland
ATTACH;FMTTYPE=image/jpeg:https://startup-kirche-meldorf.de/wp-content/uploads/2024/02/christmas-3882218_1280.jpg
END:VEVENT
END:VCALENDAR